BEGIN:VCALENDAR
VERSION:2.0
PRODID:-//Natalia Hurst  - ECPv6.0.9//NONSGML v1.0//EN
CALSCALE:GREGORIAN
METHOD:PUBLISH
X-ORIGINAL-URL:https://nataliahurst.com
X-WR-CALDESC:Events for Natalia Hurst 
REFRESH-INTERVAL;VALUE=DURATION:PT1H
X-Robots-Tag:noindex
X-PUBLISHED-TTL:PT1H
BEGIN:VTIMEZONE
TZID:UTC
BEGIN:STANDARD
TZOFFSETFROM:+0000
TZOFFSETTO:+0000
TZNAME:UTC
DTSTART:20230101T000000
END:STANDARD
END:VTIMEZONE
BEGIN:VEVENT
DTSTART;TZID=UTC:20230705T210000
DTEND;TZID=UTC:20230705T223000
DTSTAMP:20260421T124233
CREATED:20230610T191056Z
LAST-MODIFIED:20230610T191056Z
UID:1293-1688590800-1688596200@nataliahurst.com
SUMMARY:Opera Triptychon: Multimedia Poem for Screen & Soprano /5.07.23/ WUK
DESCRIPTION:Trailer \nWas? \nEin Artivismus-Erlebnis: Multimedia Performance\,  anschließen mit  einem offenen Gespräch zwischen dem Publikum sowie den Künstler:innen und Aktivist:innen . \nDie Performance erzählt von der inneren Reise eine Frau in Quarantäne\, die ihre isolation Periode nur mit den Screens teilt und so verschiedene Arten geschlechtsspezifischer Gewalt erfährt. Sie wird durch vier Opern Arien diese Situationen erleben\, und dadurch werden verschiedene Ebene des Gewalt Spirale auch das auch Publikum bekannt (toxische Beziehung\, “Madamato” in der Kolonien\, Gaslighting und Femizid). Auf die schon bekannte Situationen wird sie neue Antworten suchen\, wenn auch die aktuelle Frauen Bewegung in ihrer Welt eintritt .\nWann? \nMittwoch 5te Juli \, 21 hs \nWo? \nProjektraum WUK \, Währingerstrasse 59\, 1090 Wien
URL:https://nataliahurst.com/event/opera-triptychon-multimedia-poem-for-screen-soprano-5-07-23-wuk/
LOCATION:Projektraum WUK\, Währingerstrasse 59\, Vienna\, Vienna\, 1090
ATTACH;FMTTYPE=image/png:https://nataliahurst.com/wp-content/uploads/2023/06/Opera-Triptychon-7.png
ORGANIZER;CN="Opera%20Trip%20Group":MAILTO:hello@nataliahurst.com
END:VEVENT
END:VCALENDAR