BEGIN:VCALENDAR
VERSION:2.0
PRODID:-//Natalia Hurst  - ECPv6.0.9//NONSGML v1.0//EN
CALSCALE:GREGORIAN
METHOD:PUBLISH
X-WR-CALNAME:Natalia Hurst 
X-ORIGINAL-URL:https://nataliahurst.com
X-WR-CALDESC:Events for Natalia Hurst 
REFRESH-INTERVAL;VALUE=DURATION:PT1H
X-Robots-Tag:noindex
X-PUBLISHED-TTL:PT1H
BEGIN:VTIMEZONE
TZID:UTC
BEGIN:STANDARD
TZOFFSETFROM:+0000
TZOFFSETTO:+0000
TZNAME:UTC
DTSTART:20230101T000000
END:STANDARD
END:VTIMEZONE
BEGIN:VEVENT
DTSTART;TZID=UTC:20230401T153000
DTEND;TZID=UTC:20230401T190000
DTSTAMP:20260421T132257
CREATED:20230403T101023Z
LAST-MODIFIED:20230403T101023Z
UID:1261-1680363000-1680375600@nataliahurst.com
SUMMARY:JS Bach Matthäuspassion BWV 244
DESCRIPTION:Wiener Philharmoniker \nArnold Schoenberg Chor \nOpernschule der Wiener Staatsoper\, Kinderchor \nJulian Prégardien\, Evangelist (Tenor) \nLiviu Holender\, Christus (Bariton) \nChristina Landshamer\, Sopran \nAnna Lucia Richter\, Mezzosopran \nMartin Mitterrutzner\, Tenor \nLudwig Mittelhammer\, Bariton \nFranz Welser-Möst\, Dirigent \nPROGRAMM \nJohann Sebastian Bach \nMatthäuspassion BWV 244 (1727 vor)
URL:https://nataliahurst.com/event/js-bach-matthauspassion-bwv-244/
LOCATION:Vienna
END:VEVENT
BEGIN:VEVENT
DTSTART;TZID=UTC:20230402T190000
DTEND;TZID=UTC:20230402T220000
DTSTAMP:20260421T132257
CREATED:20230403T101304Z
LAST-MODIFIED:20230412T200105Z
UID:1264-1680462000-1680472800@nataliahurst.com
SUMMARY:JS Bach Matthäuspassion BWV 244
DESCRIPTION:Wiener Philharmoniker \nArnold Schoenberg Chor \nOpernschule der Wiener Staatsoper\, Kinderchor \nJulian Prégardien\, Evangelist (Tenor) \nLiviu Holender\, Christus (Bariton) \nChristina Landshamer\, Sopran \nAnna Lucia Richter\, Mezzosopran \nMartin Mitterrutzner\, Tenor \nLudwig Mittelhammer\, Bariton \nFranz Welser-Möst\, Dirigent \nPROGRAMM \nJohann Sebastian Bach \nMatthäuspassion BWV 244 (1727 vor)
URL:https://nataliahurst.com/event/js-bach-matthauspassion-bwv-244-2/
LOCATION:Vienna
ATTACH;FMTTYPE=image/jpeg:https://nataliahurst.com/wp-content/uploads/2023/04/339759473_610629777244929_7693690186507451877_n.jpg
END:VEVENT
BEGIN:VEVENT
DTSTART;TZID=UTC:20230414T193000
DTEND;TZID=UTC:20230414T213000
DTSTAMP:20260421T132257
CREATED:20230403T102225Z
LAST-MODIFIED:20230412T195506Z
UID:1266-1681500600-1681507800@nataliahurst.com
SUMMARY:Solidarity Concert for the benefit of the earthquake victims in Turkey/ Wiener Stadthalle
DESCRIPTION:Music & artists from all over the world bring cultures & generations together for the benefit of the earthquake victims in Turkey. \nSolidarity Concert \n14 April 20.hs \nWiener Stadthalle / Halle E
URL:https://nataliahurst.com/event/solidarity-concert-for-the-benefit-of-the-earthquake-victims-in-turkey-wiener-stadthalle/
LOCATION:Vienna
ATTACH;FMTTYPE=image/jpeg:https://nataliahurst.com/wp-content/uploads/2023/04/STadthalle-Benefiz-Konzert.jpeg
END:VEVENT
END:VCALENDAR