BEGIN:VCALENDAR
VERSION:2.0
PRODID:-//Natalia Hurst  - ECPv6.0.9//NONSGML v1.0//EN
CALSCALE:GREGORIAN
METHOD:PUBLISH
X-WR-CALNAME:Natalia Hurst 
X-ORIGINAL-URL:https://nataliahurst.com
X-WR-CALDESC:Events for Natalia Hurst 
REFRESH-INTERVAL;VALUE=DURATION:PT1H
X-Robots-Tag:noindex
X-PUBLISHED-TTL:PT1H
BEGIN:VTIMEZONE
TZID:UTC
BEGIN:STANDARD
TZOFFSETFROM:+0000
TZOFFSETTO:+0000
TZNAME:UTC
DTSTART:20230101T000000
END:STANDARD
END:VTIMEZONE
BEGIN:VEVENT
DTSTART;TZID=UTC:20230307T190000
DTEND;TZID=UTC:20230307T200000
DTSTAMP:20260421T144724
CREATED:20230216T230345Z
LAST-MODIFIED:20230216T230548Z
UID:1222-1678215600-1678219200@nataliahurst.com
SUMMARY:Opera Triptychon / Film Screening
DESCRIPTION:07. März 2023\, 17:00\nPräsentation: Ni Una Menos Austria\nFilm: Petra Paul # MakingOf # NiUnaMenosAlsergrundPark\n19:00\nFilm: Opera Triptychon – A Quarantine Story by Natalia Hurst
URL:https://nataliahurst.com/event/opera-triptychon-film-screening/
LOCATION:Galerie am Park\, Liniengasse 2 A\, Vienna\, Vienna\, Austria
ATTACH;FMTTYPE=image/jpeg:https://nataliahurst.com/wp-content/uploads/2023/02/Kunst-Aktivismus-scaled.jpg
END:VEVENT
BEGIN:VEVENT
DTSTART;VALUE=DATE:20230308
DTEND;VALUE=DATE:20230309
DTSTAMP:20260421T144724
CREATED:20230216T231331Z
LAST-MODIFIED:20230216T231331Z
UID:1227-1678233600-1678319999@nataliahurst.com
SUMMARY:International Working Women´s Day
DESCRIPTION:DemOs in Vienna : Take Back The Streets \nThis year we focus on the topic of international FLINTA* struggles.\nMany thanks to @Cortina López \, who created the beautiful design for this years’ demo.
URL:https://nataliahurst.com/event/international-working-womens-day/
LOCATION:Vienna
ATTACH;FMTTYPE=image/jpeg:https://nataliahurst.com/wp-content/uploads/2023/02/331516133_1213326789390840_5042942499461147272_n.jpg
END:VEVENT
END:VCALENDAR