BEGIN:VCALENDAR
VERSION:2.0
PRODID:-//Natalia Hurst  - ECPv6.0.9//NONSGML v1.0//EN
CALSCALE:GREGORIAN
METHOD:PUBLISH
X-ORIGINAL-URL:https://nataliahurst.com
X-WR-CALDESC:Events for Natalia Hurst 
REFRESH-INTERVAL;VALUE=DURATION:PT1H
X-Robots-Tag:noindex
X-PUBLISHED-TTL:PT1H
BEGIN:VTIMEZONE
TZID:UTC
BEGIN:STANDARD
TZOFFSETFROM:+0000
TZOFFSETTO:+0000
TZNAME:UTC
DTSTART:20220101T000000
END:STANDARD
END:VTIMEZONE
BEGIN:VEVENT
DTSTART;TZID=UTC:20221217T080000
DTEND;TZID=UTC:20221217T080000
DTSTAMP:20260421T193237
CREATED:20230216T223120Z
LAST-MODIFIED:20230216T224415Z
UID:1210-1671264000-1671264000@nataliahurst.com
SUMMARY:Canciones del Inframundo
DESCRIPTION:Piano & Voice concert . In Programm: Kurt Weill\, Rosita Melo\, Samuel Barber\, et alii. Piano: Mariano Manzanelli
URL:https://nataliahurst.com/event/canciones-del-inframundo/
LOCATION:Pista Urbana\, Chacabuco 874\, Buenos AIres\, Ciudad de Buenos Aires\, Argentina
ATTACH;FMTTYPE=image/jpeg:https://nataliahurst.com/wp-content/uploads/2022/12/318532818_10160296100437943_5174315257138188224_n.jpg
END:VEVENT
BEGIN:VEVENT
DTSTART;TZID=UTC:20221219T210000
DTEND;TZID=UTC:20221219T220000
DTSTAMP:20260421T193237
CREATED:20230216T223837Z
LAST-MODIFIED:20230216T223837Z
UID:1213-1671483600-1671487200@nataliahurst.com
SUMMARY:Opera Triptychon: A quarantine Story
DESCRIPTION:Multimedia Poem for Screen & Soprano. Dir. N. Hurst & Open Talk with public and special guest\, writer and journalist Virginia Feinmann
URL:https://nataliahurst.com/event/opera-triptychon-a-quarantine-story-3/
LOCATION:Hasta Trilce\, Maza 177\, Buenos Aires\, Ciudad de BUenos Aires\, Argentina
ATTACH;FMTTYPE=image/jpeg:https://nataliahurst.com/wp-content/uploads/2022/12/Flyer-cuadrado-Hasta-Trilce.jpeg
END:VEVENT
END:VCALENDAR