BEGIN:VCALENDAR
VERSION:2.0
PRODID:-//Natalia Hurst  - ECPv6.0.9//NONSGML v1.0//EN
CALSCALE:GREGORIAN
METHOD:PUBLISH
X-ORIGINAL-URL:https://nataliahurst.com
X-WR-CALDESC:Events for Natalia Hurst 
REFRESH-INTERVAL;VALUE=DURATION:PT1H
X-Robots-Tag:noindex
X-PUBLISHED-TTL:PT1H
BEGIN:VTIMEZONE
TZID:UTC
BEGIN:STANDARD
TZOFFSETFROM:+0000
TZOFFSETTO:+0000
TZNAME:UTC
DTSTART:20230101T000000
END:STANDARD
END:VTIMEZONE
BEGIN:VEVENT
DTSTART;TZID=UTC:20230112T210000
DTEND;TZID=UTC:20230112T220000
DTSTAMP:20260421T193238
CREATED:20230216T224208Z
LAST-MODIFIED:20230216T224315Z
UID:1217-1673557200-1673560800@nataliahurst.com
SUMMARY:Opera Triptychon: A quarantine Story
DESCRIPTION:Multimedia Poem for Screen & Soprano / Performance.Dir. N. Hurst & Open Talk with public and special guest\, writer and journalist Virginia Feinmann
URL:https://nataliahurst.com/event/opera-triptychon-a-quarantine-story-4/
LOCATION:Hasta Trilce\, Maza 177\, Buenos Aires\, Ciudad de BUenos Aires\, Argentina
ATTACH;FMTTYPE=image/jpeg:https://nataliahurst.com/wp-content/uploads/2023/02/WhatsApp-Image-2023-02-07-at-01.30.17-1.jpeg
END:VEVENT
END:VCALENDAR