BEGIN:VCALENDAR
VERSION:2.0
PRODID:-//Natalia Hurst  - ECPv6.0.9//NONSGML v1.0//EN
CALSCALE:GREGORIAN
METHOD:PUBLISH
X-WR-CALNAME:Natalia Hurst 
X-ORIGINAL-URL:https://nataliahurst.com
X-WR-CALDESC:Events for Natalia Hurst 
REFRESH-INTERVAL;VALUE=DURATION:PT1H
X-Robots-Tag:noindex
X-PUBLISHED-TTL:PT1H
BEGIN:VTIMEZONE
TZID:UTC
BEGIN:STANDARD
TZOFFSETFROM:+0000
TZOFFSETTO:+0000
TZNAME:UTC
DTSTART:20220101T000000
END:STANDARD
END:VTIMEZONE
BEGIN:VEVENT
DTSTART;TZID=UTC:20220916T180000
DTEND;TZID=UTC:20220916T190000
DTSTAMP:20260422T022058
CREATED:20230216T193936Z
LAST-MODIFIED:20230216T194350Z
UID:1198-1663351200-1663354800@nataliahurst.com
SUMMARY:Opera Trip to Hernals
DESCRIPTION:A little funny homage to the genre of opera and to Vienna\,  with selected arias and duets for soprano and tenor.Together with Andrés Alzate Gaviria (Tenor) and Stefano Petrocco (Piano) A cooperation with Fair-Play- Team 17.
URL:https://nataliahurst.com/event/opera-trip-to-hernals/
LOCATION:Dornerplatz\, Vienna\, Dornerplatz\, Vienna\, Vienna\, 1170\, Austria
ATTACH;FMTTYPE=image/jpeg:https://nataliahurst.com/wp-content/uploads/2022/10/Opera-Trip-nach-Hernals.jpg
END:VEVENT
END:VCALENDAR